{"text_format":"3","workbook":"xlsx","n_sheets":1,"sheets":["Sheet1"],"not_rendered":{"external_links":1,"defined_names":1},"read":"whole","date_system":"1900"}

{"sheet":"Sheet1","index":0,"n_rows":67,"n_cols":5,"rows_kept":67,"merged":[[0,0,0,4]]}
["云南保山电力股份有限公司2025年校园招聘拟录用人员名单"]
["序号","岗位名称","姓名","性别","准考证号"]
[1,"信息通信类","闫国鑫","男",{"$f":"VLOOKUP(C3,[1]考生详表!$A$2:$AA$132,3,FALSE)","v":20254205}]
[2,"信息通信类","吴涛","男",{"$f":"VLOOKUP(C4,[1]考生详表!$A$2:$AA$132,3,FALSE)","v":20254114}]
[3,"信息通信类","陈泳龙","男",{"$f":"VLOOKUP(C5,[1]考生详表!$A$2:$AA$132,3,FALSE)","v":20254223}]
[4,"信息通信类","张践翼","男",{"$f":"VLOOKUP(C6,[1]考生详表!$A$2:$AA$132,3,FALSE)","v":20253823}]
[5,"信息通信类","王舒欣","女",{"$f":"VLOOKUP(C7,[1]考生详表!$A$2:$AA$132,3,FALSE)","v":20253412}]
[6,"信息通信类","龙翔宇","男",{"$f":"VLOOKUP(C8,[1]考生详表!$A$2:$AA$132,3,FALSE)","v":20253316}]
[7,"工程类","丁陈永骏","男",{"$f":"VLOOKUP(C9,[1]考生详表!$A$2:$AA$132,3,FALSE)","v":20255610}]
[8,"工程类","刘宇仁","男",{"$f":"VLOOKUP(C10,[1]考生详表!$A$2:$AA$132,3,FALSE)","v":20255806}]
[9,"工程类","李星影","女",{"$f":"VLOOKUP(C11,[1]考生详表!$A$2:$AA$132,3,FALSE)","v":20255105}]
[10,"工程类","赵继彩","男",{"$f":"VLOOKUP(C12,[1]考生详表!$A$2:$AA$132,3,FALSE)","v":20255602}]
[11,"工程类","余靖","女",{"$f":"VLOOKUP(C13,[1]考生详表!$A$2:$AA$132,3,FALSE)","v":20255021}]
[12,"工程类","穆李海","男",{"$f":"VLOOKUP(C14,[1]考生详表!$A$2:$AA$132,3,FALSE)","v":20256005}]
[13,"财会类","周晓艳","女",{"$f":"VLOOKUP(C15,[1]考生详表!$A$2:$AA$132,3,FALSE)","v":20257609}]
[14,"财会类","李宇彬","女",{"$f":"VLOOKUP(C16,[1]考生详表!$A$2:$AA$132,3,FALSE)","v":20256903}]
[15,"财会类","王诚锦","男",{"$f":"VLOOKUP(C17,[1]考生详表!$A$2:$AA$132,3,FALSE)","v":20257417}]
[16,"财会类","赵青","女",{"$f":"VLOOKUP(C18,[1]考生详表!$A$2:$AA$132,3,FALSE)","v":20257309}]
[17,"配电网类","翟少林","男",{"$f":"VLOOKUP(C19,[1]考生详表!$A$2:$AA$132,3,FALSE)","v":20251009}]
[18,"配电网类","杨文鹏","男",{"$f":"VLOOKUP(C20,[1]考生详表!$A$2:$AA$132,3,FALSE)","v":20251112}]
[19,"配电网类","杨灏","男",{"$f":"VLOOKUP(C21,[1]考生详表!$A$2:$AA$132,3,FALSE)","v":20251311}]
[20,"配电网类","李林睿","男",{"$f":"VLOOKUP(C22,[1]考生详表!$A$2:$AA$132,3,FALSE)","v":20251024}]
[21,"配电网类","陈志鹏","男",{"$f":"VLOOKUP(C23,[1]考生详表!$A$2:$AA$132,3,FALSE)","v":20251010}]
[22,"配电网类","刘孟函","男",{"$f":"VLOOKUP(C24,[1]考生详表!$A$2:$AA$132,3,FALSE)","v":20251424}]
[23,"配电网类","李耕棋","男",{"$f":"VLOOKUP(C25,[1]考生详表!$A$2:$AA$132,3,FALSE)","v":20250504}]
[24,"配电网类","槐俊臣","男",{"$f":"VLOOKUP(C26,[1]考生详表!$A$2:$AA$132,3,FALSE)","v":20250230}]
[25,"配电网类","郑逸帆","男",{"$f":"VLOOKUP(C27,[1]考生详表!$A$2:$AA$132,3,FALSE)","v":20251602}]
[26,"配电网类","高昌华","男",{"$f":"VLOOKUP(C28,[1]考生详表!$A$2:$AA$132,3,FALSE)","v":20250929}]
[27,"配电网类","邓福斌","男",{"$f":"VLOOKUP(C29,[1]考生详表!$A$2:$AA$132,3,FALSE)","v":20251522}]
[28,"配电网类","欧渝","女",{"$f":"VLOOKUP(C30,[1]考生详表!$A$2:$AA$132,3,FALSE)","v":20250924}]
[29,"配电网类","李鑫龙","男",{"$f":"VLOOKUP(C31,[1]考生详表!$A$2:$AA$132,3,FALSE)","v":20250516}]
[30,"配电网类","王力恒","男",{"$f":"VLOOKUP(C32,[1]考生详表!$A$2:$AA$132,3,FALSE)","v":20251824}]
[31,"配电网类","王永基","男",{"$f":"VLOOKUP(C33,[1]考生详表!$A$2:$AA$132,3,FALSE)","v":20251414}]
[32,"配电网类","杨楠","女",{"$f":"VLOOKUP(C34,[1]考生详表!$A$2:$AA$132,3,FALSE)","v":20251909}]
[33,"配电网类","舒海星","男",{"$f":"VLOOKUP(C35,[1]考生详表!$A$2:$AA$132,3,FALSE)","v":20250722}]
[34,"配电网类","罗全","男",{"$f":"VLOOKUP(C36,[1]考生详表!$A$2:$AA$132,3,FALSE)","v":20251616}]
[35,"配电网类","陈易昌","男",{"$f":"VLOOKUP(C37,[1]考生详表!$A$2:$AA$132,3,FALSE)","v":20250427}]
[36,"配电网类","邓硕","男",{"$f":"VLOOKUP(C38,[1]考生详表!$A$2:$AA$132,3,FALSE)","v":20250501}]
[37,"配电网类","杨子龙","男",{"$f":"VLOOKUP(C39,[1]考生详表!$A$2:$AA$132,3,FALSE)","v":20250305}]
[38,"配电网类","文恒彬","男",{"$f":"VLOOKUP(C40,[1]考生详表!$A$2:$AA$132,3,FALSE)","v":20250505}]
[39,"配电网类","宋冬","男",{"$f":"VLOOKUP(C41,[1]考生详表!$A$2:$AA$132,3,FALSE)","v":20250720}]
[40,"配电网类","赵正梁","男",{"$f":"VLOOKUP(C42,[1]考生详表!$A$2:$AA$132,3,FALSE)","v":20251329}]
[41,"配电网类","何思语","男",{"$f":"VLOOKUP(C43,[1]考生详表!$A$2:$AA$132,3,FALSE)","v":20251307}]
[42,"配电网类","罗华康","男",{"$f":"VLOOKUP(C44,[1]考生详表!$A$2:$AA$132,3,FALSE)","v":20250524}]
[43,"配电网类","王丽","女",{"$f":"VLOOKUP(C45,[1]考生详表!$A$2:$AA$132,3,FALSE)","v":20251716}]
[44,"配电网类","金炀","男",{"$f":"VLOOKUP(C46,[1]考生详表!$A$2:$AA$132,3,FALSE)","v":20251028}]
[45,"配电网类","李贵傲","男",{"$f":"VLOOKUP(C47,[1]考生详表!$A$2:$AA$132,3,FALSE)","v":20251126}]
[46,"配电网类","尚国应","男",{"$f":"VLOOKUP(C48,[1]考生详表!$A$2:$AA$132,3,FALSE)","v":20251404}]
[47,"配电网类","刘建波","男",{"$f":"VLOOKUP(C49,[1]考生详表!$A$2:$AA$132,3,FALSE)","v":20250119}]
[48,"配电网类","伯年旺","男",{"$f":"VLOOKUP(C50,[1]考生详表!$A$2:$AA$132,3,FALSE)","v":20250206}]
[49,"配电网类","陈宗光","男",{"$f":"VLOOKUP(C51,[1]考生详表!$A$2:$AA$132,3,FALSE)","v":20250324}]
[50,"配电网类","杞潮琨","男",{"$f":"VLOOKUP(C52,[1]考生详表!$A$2:$AA$132,3,FALSE)","v":20251018}]
[51,"配电网类","史瑞","男",{"$f":"VLOOKUP(C53,[1]考生详表!$A$2:$AA$132,3,FALSE)","v":20251817}]
[52,"配电网类","王双维","男",{"$f":"VLOOKUP(C54,[1]考生详表!$A$2:$AA$132,3,FALSE)","v":20251115}]
[53,"配电网类","李自立","男",{"$f":"VLOOKUP(C55,[1]考生详表!$A$2:$AA$132,3,FALSE)","v":20251014}]
[54,"配电网类","杨潇","男",{"$f":"VLOOKUP(C56,[1]考生详表!$A$2:$AA$132,3,FALSE)","v":20251319}]
[55,"配电网类","朱丕洪","男",{"$f":"VLOOKUP(C57,[1]考生详表!$A$2:$AA$132,3,FALSE)","v":20250520}]
[56,"配电网类","沙长寿","男",{"$f":"VLOOKUP(C58,[1]考生详表!$A$2:$AA$132,3,FALSE)","v":20250409}]
[57,"配电网类","谭小金","男",{"$f":"VLOOKUP(C59,[1]考生详表!$A$2:$AA$132,3,FALSE)","v":20250726}]
[58,"配电网类","刘瑞虎","男",{"$f":"VLOOKUP(C60,[1]考生详表!$A$2:$AA$132,3,FALSE)","v":20250422}]
[59,"配电网类","刘志平","男",{"$f":"VLOOKUP(C61,[1]考生详表!$A$2:$AA$132,3,FALSE)","v":20251818}]
[60,"配电网类","张永金","男",{"$f":"VLOOKUP(C62,[1]考生详表!$A$2:$AA$132,3,FALSE)","v":20250108}]
[61,"配电网类","郜钰基","男",{"$f":"VLOOKUP(C63,[1]考生详表!$A$2:$AA$132,3,FALSE)","v":20250218}]
[62,"配电网类","张睿","男",{"$f":"VLOOKUP(C64,[1]考生详表!$A$2:$AA$132,3,FALSE)","v":20250616}]
[63,"配电网类","苏建泽","男",{"$f":"VLOOKUP(C65,[1]考生详表!$A$2:$AA$132,3,FALSE)","v":20251121}]
[64,"配电网类","罗鹏超","男",{"$f":"VLOOKUP(C66,[1]考生详表!$A$2:$AA$132,3,FALSE)","v":20250223}]
[65,"配电网类","高琦林","男",{"$f":"VLOOKUP(C67,[1]考生详表!$A$2:$AA$132,3,FALSE)","v":20250811}]